BEGIN:VCALENDAR
VERSION:2.0
PRODID:-//Zionsville Christian Church - ECPv6.15.20//NONSGML v1.0//EN
CALSCALE:GREGORIAN
METHOD:PUBLISH
X-WR-CALNAME:Zionsville Christian Church
X-ORIGINAL-URL:https://zionsvillechristianchurch.org
X-WR-CALDESC:Events for Zionsville Christian Church
REFRESH-INTERVAL;VALUE=DURATION:PT1H
X-Robots-Tag:noindex
X-PUBLISHED-TTL:PT1H
BEGIN:VTIMEZONE
TZID:America/Indiana/Indianapolis
BEGIN:DAYLIGHT
TZOFFSETFROM:-0500
TZOFFSETTO:-0400
TZNAME:EDT
DTSTART:20240310T070000
END:DAYLIGHT
BEGIN:STANDARD
TZOFFSETFROM:-0400
TZOFFSETTO:-0500
TZNAME:EST
DTSTART:20241103T060000
END:STANDARD
BEGIN:DAYLIGHT
TZOFFSETFROM:-0500
TZOFFSETTO:-0400
TZNAME:EDT
DTSTART:20250309T070000
END:DAYLIGHT
BEGIN:STANDARD
TZOFFSETFROM:-0400
TZOFFSETTO:-0500
TZNAME:EST
DTSTART:20251102T060000
END:STANDARD
BEGIN:DAYLIGHT
TZOFFSETFROM:-0500
TZOFFSETTO:-0400
TZNAME:EDT
DTSTART:20260308T070000
END:DAYLIGHT
BEGIN:STANDARD
TZOFFSETFROM:-0400
TZOFFSETTO:-0500
TZNAME:EST
DTSTART:20261101T060000
END:STANDARD
BEGIN:DAYLIGHT
TZOFFSETFROM:-0500
TZOFFSETTO:-0400
TZNAME:EDT
DTSTART:20270314T070000
END:DAYLIGHT
BEGIN:STANDARD
TZOFFSETFROM:-0400
TZOFFSETTO:-0500
TZNAME:EST
DTSTART:20271107T060000
END:STANDARD
END:VTIMEZONE
BEGIN:VEVENT
DTSTART;TZID=America/Indiana/Indianapolis:20260402T190000
DTEND;TZID=America/Indiana/Indianapolis:20260402T200000
DTSTAMP:20260421T132206
CREATED:20260309T143059Z
LAST-MODIFIED:20260309T143101Z
UID:5372-1775156400-1775160000@zionsvillechristianchurch.org
SUMMARY:Maundy Thursday
DESCRIPTION:ZCC’s Maundy Thursday worship service will take place on April 2 at 7:00 pm. All are invited.
URL:https://zionsvillechristianchurch.org/event/maundy-thursday/
LOCATION:Zionsville Christian Church\, 120 N. 9th Street\, Zionsville\, Indiana\, 46077
ATTACH;FMTTYPE=image/png:https://zionsvillechristianchurch.org/wp-content/uploads/2026/03/Maundy-Thursday-1200-x-930.png
END:VEVENT
BEGIN:VEVENT
DTSTART;TZID=America/Indiana/Indianapolis:20260329T110000
DTEND;TZID=America/Indiana/Indianapolis:20260329T120000
DTSTAMP:20260421T132206
CREATED:20260210T181006Z
LAST-MODIFIED:20260309T150159Z
UID:5307-1774782000-1774785600@zionsvillechristianchurch.org
SUMMARY:Easter Egg Hunt
DESCRIPTION:We invite all children to participate in a palm-waving procession during the Palm Sunday worship service on March 29. After the service\, join us for ZCC’s annual Easter Egg Hunt!
URL:https://zionsvillechristianchurch.org/event/easter-egg-hunt-3/
LOCATION:Zionsville Christian Church\, 120 N. 9th Street\, Zionsville\, Indiana\, 46077
ATTACH;FMTTYPE=image/png:https://zionsvillechristianchurch.org/wp-content/uploads/2026/02/Easter-Egg-Hunt-2026-1200-x-930-px.png
END:VEVENT
BEGIN:VEVENT
DTSTART;TZID=America/Indiana/Indianapolis:20260315T110000
DTEND;TZID=America/Indiana/Indianapolis:20260315T130000
DTSTAMP:20260421T132206
CREATED:20260303T144830Z
LAST-MODIFIED:20260303T144834Z
UID:5366-1773572400-1773579600@zionsvillechristianchurch.org
SUMMARY:Potato Bar & Dessert Lunch
DESCRIPTION:Join us for food\, fellowship… and potatoes! All are invited to the Potato Bar and Dessert Lunch hosted by the Disciples Women on Sunday\, March 15\, 2026\, after the worship service. There will be a free will offering.
URL:https://zionsvillechristianchurch.org/event/potato-bar-dessert-lunch/
LOCATION:Zionsville Christian Church\, 120 N. 9th Street\, Zionsville\, Indiana\, 46077
ATTACH;FMTTYPE=image/png:https://zionsvillechristianchurch.org/wp-content/uploads/2026/03/Potato-Bar-Dessert-Lunch-2026-1.png
END:VEVENT
BEGIN:VEVENT
DTSTART;TZID=America/Indiana/Indianapolis:20260218T170000
DTEND;TZID=America/Indiana/Indianapolis:20260218T190000
DTSTAMP:20260421T132206
CREATED:20260210T180649Z
LAST-MODIFIED:20260210T180652Z
UID:5302-1771434000-1771441200@zionsvillechristianchurch.org
SUMMARY:Ash Wednesday
DESCRIPTION:Stop by on February 18 from 5:00–7:00 pm for ZCC’s Ash Wednesday service. Prayer stations will be set up throughout the Sanctuary for self-guided meditation\, and the service will also include communion and the imposition of ashes.
URL:https://zionsvillechristianchurch.org/event/ash-wednesday-2/
LOCATION:Zionsville Christian Church\, 120 N. 9th Street\, Zionsville\, Indiana\, 46077
ATTACH;FMTTYPE=image/png:https://zionsvillechristianchurch.org/wp-content/uploads/2026/02/Ash-Wednesday-2026-1200-x-930-px.png
END:VEVENT
BEGIN:VEVENT
DTSTART;TZID=America/Indiana/Indianapolis:20251224T160000
DTEND;TZID=America/Indiana/Indianapolis:20251224T170000
DTSTAMP:20260421T132206
CREATED:20250702T153905Z
LAST-MODIFIED:20251124T164139Z
UID:4950-1766592000-1766595600@zionsvillechristianchurch.org
SUMMARY:Christmas Eve Service
DESCRIPTION:On Christmas Eve we will gather together at 4:00 pm for a service for all ages in a warm and inviting setting. All are welcome!
URL:https://zionsvillechristianchurch.org/event/christmas-eve-service-3/
LOCATION:Zionsville Christian Church\, 120 N. 9th Street\, Zionsville\, Indiana\, 46077
ATTACH;FMTTYPE=image/jpeg:https://zionsvillechristianchurch.org/wp-content/uploads/2025/11/Christmas-Eve-2025-1200-x-930-px.jpg
END:VEVENT
BEGIN:VEVENT
DTSTART;TZID=America/Indiana/Indianapolis:20251217T183000
DTEND;TZID=America/Indiana/Indianapolis:20251217T193000
DTSTAMP:20260421T132206
CREATED:20250702T153747Z
LAST-MODIFIED:20251110T175342Z
UID:4947-1765996200-1765999800@zionsvillechristianchurch.org
SUMMARY:The Longest Night: A Service of Hope and Remembrance
DESCRIPTION:As the winter solstice approaches\, we recognize that this season is often marked by grief. This service provides an opportunity to honor loved ones and find a space for hope alongside sorrow. \n\n\n\nIf you would like to submit a photo of a loved one to display during the service\, email Rev. Tyler by Wednesday\, Dec. 10. If you submitted photos in the past\, there is no need to re-send for 2025.
URL:https://zionsvillechristianchurch.org/event/the-longest-night-a-service-of-hope-and-remembrance-3/
LOCATION:Zionsville Christian Church\, 120 N. 9th Street\, Zionsville\, Indiana\, 46077
ATTACH;FMTTYPE=image/png:https://zionsvillechristianchurch.org/wp-content/uploads/2025/07/LN-2025-1.png
END:VEVENT
BEGIN:VEVENT
DTSTART;TZID=America/Indiana/Indianapolis:20251207T110000
DTEND;TZID=America/Indiana/Indianapolis:20251207T123000
DTSTAMP:20260421T132206
CREATED:20250910T151605Z
LAST-MODIFIED:20251022T153229Z
UID:5048-1765105200-1765110600@zionsvillechristianchurch.org
SUMMARY:Congregational Meeting
DESCRIPTION:Congregation president Laura Archer calls the annual Congregational Meeting on Sunday\, December 7\, 2025\, to begin immediately after Sunday worship. The purpose of the annual meeting is to approve the 2026 budget and 2026 Board members\, address any new business\, and provide a 2025 review. All congregants are invited and encouraged to attend and participate.
URL:https://zionsvillechristianchurch.org/event/congregational-meeting-5/
LOCATION:Zionsville Christian Church\, 120 N. 9th Street\, Zionsville\, Indiana\, 46077
ATTACH;FMTTYPE=image/png:https://zionsvillechristianchurch.org/wp-content/uploads/2025/09/Congregational-Meeting-2025-1200x930-px.png
END:VEVENT
BEGIN:VEVENT
DTSTART;TZID=America/Indiana/Indianapolis:20251123T110000
DTEND;TZID=America/Indiana/Indianapolis:20251123T130000
DTSTAMP:20260421T132206
CREATED:20250910T151413Z
LAST-MODIFIED:20251027T161605Z
UID:5045-1763895600-1763902800@zionsvillechristianchurch.org
SUMMARY:Soup and Pie Lunch
DESCRIPTION:Join us after worship on November 23 as we celebrate the best things Thanksgiving has to offer… soup\, pie\, and fellowship. (Did we mention PIE?!?) The food will be fully furnished by the Disciples Women. If you’d like to attend\, please let us know! Sign-up sheets will be available on November 9. A great way to fight off that food coma is to help decorate the church! Advent decoration will take place after lunch. Many hands make light work\, so please join in if you can.
URL:https://zionsvillechristianchurch.org/event/soup-and-pie-lunch/
LOCATION:Zionsville Christian Church\, 120 N. 9th Street\, Zionsville\, Indiana\, 46077
ATTACH;FMTTYPE=image/png:https://zionsvillechristianchurch.org/wp-content/uploads/2025/09/Soup-Pie-Lunch-2025.png
END:VEVENT
BEGIN:VEVENT
DTSTART;TZID=America/Indiana/Indianapolis:20251026T160000
DTEND;TZID=America/Indiana/Indianapolis:20251026T190000
DTSTAMP:20260421T132206
CREATED:20250514T150931Z
LAST-MODIFIED:20251020T165244Z
UID:4792-1761494400-1761505200@zionsvillechristianchurch.org
SUMMARY:Bonfire & Weenie Roast
DESCRIPTION:Stop by on Sunday\, October 26 at 4:00 pm as we gather around the firepits for our annual bonfire and weenie roast! We’ll have hot dogs and vegan hot dogs to grill\, along with sides and the fixings for s’mores. This year we’ll feature an old-fashioned cake walk. Compete to win delicious cookies and cupcakes! \n\n\n\nThis event will be held at the firepits at the back of our property\, so we recommend parking in the back (north) parking lot.
URL:https://zionsvillechristianchurch.org/event/bonfire-weenie-roast-2/
LOCATION:Zionsville Christian Church\, 120 N. 9th Street\, Zionsville\, Indiana\, 46077
ATTACH;FMTTYPE=image/png:https://zionsvillechristianchurch.org/wp-content/uploads/2025/10/Bonfire-Weenie-Roast-2025-1200-x-930-px-v2.png
END:VEVENT
BEGIN:VEVENT
DTSTART;TZID=America/Indiana/Indianapolis:20251025T090000
DTEND;TZID=America/Indiana/Indianapolis:20251025T120000
DTSTAMP:20260421T132206
CREATED:20250514T150800Z
LAST-MODIFIED:20251001T155106Z
UID:4789-1761382800-1761393600@zionsvillechristianchurch.org
SUMMARY:Trick or Trees
DESCRIPTION:ZCC will be participating in the Zionsville Parks and Recreation Department’s Trick or Trees event. Stop by our booth to say “hi”! \n\n\n\nTo learn more about this event\, visit the link below. All children participating must register in advance. Registration opens October 1st. \n\n\n\n\nLearn more
URL:https://zionsvillechristianchurch.org/event/trunk-or-trees/
LOCATION:Elm Street Green\, 165 N Elm Street\, Zionsville\, Indiana\, 46077
ATTACH;FMTTYPE=image/png:https://zionsvillechristianchurch.org/wp-content/uploads/2025/05/ZCC-at-Trick-or-Trees-1200-x-930.png
END:VEVENT
BEGIN:VEVENT
DTSTART;TZID=America/Indiana/Indianapolis:20251016T170000
DTEND;TZID=America/Indiana/Indianapolis:20251016T190000
DTSTAMP:20260421T132206
CREATED:20250514T150550Z
LAST-MODIFIED:20250915T150259Z
UID:4786-1760634000-1760641200@zionsvillechristianchurch.org
SUMMARY:Parents' Night Out
DESCRIPTION:Are you looking for ways for your kids to make friends and experience community? Is date night long overdue? Or maybe you just need a little time to run errands by yourself… Drop off your kids at Zionsville Christian Church for a fun-filled pizza party with ZCC volunteers. \n\n\n\nSuggested donation of $5 per child for 1-2 children; $15 per family for 3+ children. \n\n\n\nRegistration required! To register\, visit the link below. \n\n\n\n\nregister here
URL:https://zionsvillechristianchurch.org/event/parents-night-out-3/
LOCATION:Zionsville Christian Church\, 120 N. 9th Street\, Zionsville\, Indiana\, 46077
ATTACH;FMTTYPE=image/png:https://zionsvillechristianchurch.org/wp-content/uploads/2025/05/Parents-Night-Out-Oct.-2025-1200-x-930-px.png
END:VEVENT
BEGIN:VEVENT
DTSTART;TZID=America/Indiana/Indianapolis:20251005T110000
DTEND;TZID=America/Indiana/Indianapolis:20251005T130000
DTSTAMP:20260421T132206
CREATED:20250910T151009Z
LAST-MODIFIED:20250922T155551Z
UID:5041-1759662000-1759669200@zionsvillechristianchurch.org
SUMMARY:CROP Hunger Walk
DESCRIPTION:Join us after the worship service on Sunday\, October 5 as we participate in the CROP Hunger Walk. Those who are able are encouraged to walk the Big-4 Rail Trail with us\, and afterward participants can gather around a crockpot of soup. \n\n\n\nThe CROP Hunger Walk is an annual event held to support the work of Church World Service in reaching out to those who are facing natural disasters\, war\, and other terrible things.
URL:https://zionsvillechristianchurch.org/event/crop-hunger-walk-2/
LOCATION:Zionsville Christian Church\, 120 N. 9th Street\, Zionsville\, Indiana\, 46077
END:VEVENT
BEGIN:VEVENT
DTSTART;TZID=America/Indiana/Indianapolis:20250816T130000
DTEND;TZID=America/Indiana/Indianapolis:20250816T190000
DTSTAMP:20260421T132206
CREATED:20250716T142803Z
LAST-MODIFIED:20250716T142805Z
UID:4974-1755349200-1755370800@zionsvillechristianchurch.org
SUMMARY:Zionsville Pride Festival
DESCRIPTION:Join us at the first-ever Zionsville Pride Festival! ZCC will be joining forces with St. Peter’s United Church of Christ to support the mission of Zionsville Pride\, “creating safe\, welcoming spaces where everyone in our community feels valued and supported.” Come visit our booth! \n\n\n\nTo learn more about the Zionsville Pride Festival\, visit their website (below). \n\n\n\n\nlearn more
URL:https://zionsvillechristianchurch.org/event/zionsville-pride-festival/
LOCATION:Mulberry Fields\, 9645 Whitestown Rd\, Zionsville\, Indiana
ATTACH;FMTTYPE=image/png:https://zionsvillechristianchurch.org/wp-content/uploads/2025/07/ZCC-at-Zionsville-Pride-1200-x-930.png
END:VEVENT
BEGIN:VEVENT
DTSTART;TZID=America/Indiana/Indianapolis:20250803T100000
DTEND;TZID=America/Indiana/Indianapolis:20250803T120000
DTSTAMP:20260421T132206
CREATED:20250727T183725Z
LAST-MODIFIED:20250727T183728Z
UID:4990-1754215200-1754222400@zionsvillechristianchurch.org
SUMMARY:Bluegrass Worship
DESCRIPTION:Join us for a bluegrass-themed worship service\, followed by a pitch-in lunch organized by the Disciples Women. The service will take place indoors.
URL:https://zionsvillechristianchurch.org/event/bluegrass-worship/
LOCATION:Zionsville Christian Church\, 120 N. 9th Street\, Zionsville\, Indiana\, 46077
ATTACH;FMTTYPE=image/png:https://zionsvillechristianchurch.org/wp-content/uploads/2025/07/Bluegrass-Worship-Aug-1-1200-x-930.png
END:VEVENT
BEGIN:VEVENT
DTSTART;TZID=America/Indiana/Indianapolis:20250706T100000
DTEND;TZID=America/Indiana/Indianapolis:20250706T110000
DTSTAMP:20260421T132206
CREATED:20250630T183536Z
LAST-MODIFIED:20250630T183538Z
UID:4933-1751796000-1751799600@zionsvillechristianchurch.org
SUMMARY:Bluegrass Outdoor Worship
DESCRIPTION:Grab your camp chairs and picnic blankets and join us for a bluegrass-themed outdoor worship service (weather permitting).
URL:https://zionsvillechristianchurch.org/event/bluegrass-outdoor-worship-2/
LOCATION:Zionsville Christian Church\, 120 N. 9th Street\, Zionsville\, Indiana\, 46077
ATTACH;FMTTYPE=image/png:https://zionsvillechristianchurch.org/wp-content/uploads/2025/06/Bluegrass-Outdoor-Worship-July-6-FB-post.png
END:VEVENT
BEGIN:VEVENT
DTSTART;TZID=America/Indiana/Indianapolis:20250701T190000
DTEND;TZID=America/Indiana/Indianapolis:20250701T203000
DTSTAMP:20260421T132206
CREATED:20250409T150436Z
LAST-MODIFIED:20250522T173550Z
UID:4621-1751396400-1751401800@zionsvillechristianchurch.org
SUMMARY:ZCC Speaker Series: Andrew Whitehead
DESCRIPTION:In this talk\, Dr. Whitehead draws on more than a decade of research to clearly define what Christian nationalism is\, the threats it poses to democracy and civil society in the United States\, how it contradicts the Christian call to love one’s neighbors\, and what concerned citizens can do in the present moment. Whether or not you are a person of faith\, this conversation will provide you with the knowledge you need to understand what is at stake and how to respond. \n\n\n\n\nlearn more
URL:https://zionsvillechristianchurch.org/event/zcc-speaker-series-andrew-whitehead/
LOCATION:Zionsville Christian Church\, 120 N. 9th Street\, Zionsville\, Indiana\, 46077
ATTACH;FMTTYPE=image/png:https://zionsvillechristianchurch.org/wp-content/uploads/2025/04/Speaker-Series-7-2025-FB-post-2.png
END:VEVENT
BEGIN:VEVENT
DTSTART;TZID=America/Indiana/Indianapolis:20250627T190000
DTEND;TZID=America/Indiana/Indianapolis:20250627T210000
DTSTAMP:20260421T132206
CREATED:20250430T152714Z
LAST-MODIFIED:20250602T153723Z
UID:4715-1751050800-1751058000@zionsvillechristianchurch.org
SUMMARY:Rail Trail Movie Night: Inside Out
DESCRIPTION:Join us for ZCC’s Rail Trail Movie Nights\, a series of family-friendly outdoor movies! Grab a camp chair or blanket and find a spot on the lawn alongside the Big-4 Rail Trail on Friday\, June 27\, at 7:00 pm (weather permitting) to watch Inside Out. \n\n\n\nFor more information and dates of future movies\, check out the link below. \n\n\n\n\nlearn more
URL:https://zionsvillechristianchurch.org/event/rail-trail-movie-night-inside-out-2/
LOCATION:Zionsville Christian Church\, 120 N. 9th Street\, Zionsville\, Indiana\, 46077
ATTACH;FMTTYPE=image/png:https://zionsvillechristianchurch.org/wp-content/uploads/2025/04/Movie-Night-6-27-FB-post-1200-x-930-px.png
END:VEVENT
BEGIN:VEVENT
DTSTART;TZID=America/Indiana/Indianapolis:20250626T090000
DTEND;TZID=America/Indiana/Indianapolis:20250626T113000
DTSTAMP:20260421T132206
CREATED:20250226T162037Z
LAST-MODIFIED:20250501T183808Z
UID:4431-1750928400-1750937400@zionsvillechristianchurch.org
SUMMARY:VBS\, Day 4
DESCRIPTION:Join us for VBS at ZCC! \n\n\n\nThrough Compassion Camp\, participants will explore what all living things need to live – shelter\, food\, water\, air\, and community – and how they can have compassion for the living earth\, especially in their local ecosystems. Children in pre-K (age 4) through fourth grade are invited to join. \n\n\n\n\nlearn more
URL:https://zionsvillechristianchurch.org/event/vbs-day-4-2/
LOCATION:Zionsville Christian Church\, 120 N. 9th Street\, Zionsville\, Indiana\, 46077
ATTACH;FMTTYPE=image/png:https://zionsvillechristianchurch.org/wp-content/uploads/2025/05/VBS-2025-FB-Post-1200-x-930-px.png
END:VEVENT
BEGIN:VEVENT
DTSTART;TZID=America/Indiana/Indianapolis:20250625T090000
DTEND;TZID=America/Indiana/Indianapolis:20250625T113000
DTSTAMP:20260421T132206
CREATED:20250226T162218Z
LAST-MODIFIED:20250501T183622Z
UID:4433-1750842000-1750851000@zionsvillechristianchurch.org
SUMMARY:VBS\, Day 3
DESCRIPTION:Join us for VBS at ZCC! \n\n\n\nThrough Compassion Camp\, participants will explore what all living things need to live – shelter\, food\, water\, air\, and community – and how they can have compassion for the living earth\, especially in their local ecosystems. Children in pre-K (age 4) through fourth grade are invited to join. \n\n\n\n\nlearn more
URL:https://zionsvillechristianchurch.org/event/vbs-day-3-3/
LOCATION:Zionsville Christian Church\, 120 N. 9th Street\, Zionsville\, Indiana\, 46077
ATTACH;FMTTYPE=image/png:https://zionsvillechristianchurch.org/wp-content/uploads/2025/05/VBS-2025-FB-Post-1200-x-930-px.png
END:VEVENT
BEGIN:VEVENT
DTSTART;TZID=America/Indiana/Indianapolis:20250624T090000
DTEND;TZID=America/Indiana/Indianapolis:20250624T113000
DTSTAMP:20260421T132206
CREATED:20250226T161849Z
LAST-MODIFIED:20250501T183217Z
UID:4426-1750755600-1750764600@zionsvillechristianchurch.org
SUMMARY:VBS\, Day 2
DESCRIPTION:Join us for VBS at ZCC! \n\n\n\nThrough Compassion Camp\, participants will explore what all living things need to live – shelter\, food\, water\, air\, and community – and how they can have compassion for the living earth\, especially in their local ecosystems. Children in pre-K (age 4) through fourth grade are invited to join. \n\n\n\n\nlearn more
URL:https://zionsvillechristianchurch.org/event/vbs-day-2/
LOCATION:Zionsville Christian Church\, 120 N. 9th Street\, Zionsville\, Indiana\, 46077
ATTACH;FMTTYPE=image/png:https://zionsvillechristianchurch.org/wp-content/uploads/2025/05/VBS-2025-FB-Post-1200-x-930-px.png
END:VEVENT
BEGIN:VEVENT
DTSTART;TZID=America/Indiana/Indianapolis:20250623T090000
DTEND;TZID=America/Indiana/Indianapolis:20250623T113000
DTSTAMP:20260421T132206
CREATED:20250226T161754Z
LAST-MODIFIED:20250501T183048Z
UID:4423-1750669200-1750678200@zionsvillechristianchurch.org
SUMMARY:VBS\, Day 1
DESCRIPTION:Join us for VBS at ZCC! \n\n\n\nThrough Compassion Camp\, participants will explore what all living things need to live – shelter\, food\, water\, air\, and community – and how they can have compassion for the living earth\, especially in their local ecosystems. Children in pre-K (age 4) through fourth grade are invited to join. \n\n\n\n\nlearn more
URL:https://zionsvillechristianchurch.org/event/vbs-day-1/
LOCATION:Zionsville Christian Church\, 120 N. 9th Street\, Zionsville\, Indiana\, 46077
ATTACH;FMTTYPE=image/png:https://zionsvillechristianchurch.org/wp-content/uploads/2025/05/VBS-2025-FB-Post-1200-x-930-px.png
END:VEVENT
BEGIN:VEVENT
DTSTART;TZID=America/Indiana/Indianapolis:20250617T190000
DTEND;TZID=America/Indiana/Indianapolis:20250617T203000
DTSTAMP:20260421T132206
CREATED:20250528T153556Z
LAST-MODIFIED:20250528T153558Z
UID:4862-1750186800-1750192200@zionsvillechristianchurch.org
SUMMARY:ZCC Speaker Series: Movie Showing
DESCRIPTION:In preparation for our Speaker Series event on July 1\, join us in the ZCC Sanctuary to watch the documentary Bad Faith. \n\n\n\nBad Faith is a feature-length documentary examining the rise of Christian Nationalism in the United States. It features interviews with religious leaders\, historians\, investigative journalists\, state senators\, political activists\, sociologists\, and a former high-ranking member of the Trump administration and traces the roots of Christian Nationalism to Paul Weyrich\, a Republican strategist who used racism to build the religious right. The film argues that Christian Nationalism poses a threat to American democracy by promoting an authoritarian agenda. \n\n\n\n \n\n\n\n\nZCC Speaker Series\n\n\n\nThe ZCC Speaker Series features inspiring speakers who foster thought and action on equity\, diversity\, human rights\, access to essential resources and opportunities\, participation in decision-making processes that impact communities\, and environmental issues. \n\n\n\n\nlearn more\n\n\n\npast events
URL:https://zionsvillechristianchurch.org/event/zcc-speaker-series-movie-showing/
LOCATION:Zionsville Christian Church\, 120 N. 9th Street\, Zionsville\, Indiana\, 46077
ATTACH;FMTTYPE=image/png:https://zionsvillechristianchurch.org/wp-content/uploads/2025/05/Speaker-Series-Movie-FB-post-2.png
END:VEVENT
BEGIN:VEVENT
DTSTART;TZID=America/Indiana/Indianapolis:20250601T110000
DTEND;TZID=America/Indiana/Indianapolis:20250601T140000
DTSTAMP:20260421T132206
CREATED:20250226T161423Z
LAST-MODIFIED:20250501T174322Z
UID:4420-1748775600-1748786400@zionsvillechristianchurch.org
SUMMARY:Native Plants Unlimited Pop-Up Sale
DESCRIPTION:Native Plants Unlimited is holding a pop-up plant sale in the Zionsville Christian Church parking lot on Sunday\, June 1! Pop by from 11:00 am to 2:00 pm to ask questions\, gush about native species\, and\, of course\, purchase a few of your own.
URL:https://zionsvillechristianchurch.org/event/native-plants-unlimited-pop-up-sale-3/
LOCATION:Zionsville Christian Church\, 120 N. 9th Street\, Zionsville\, Indiana\, 46077
ATTACH;FMTTYPE=image/png:https://zionsvillechristianchurch.org/wp-content/uploads/2025/02/NPU-Pop-Up-Sale-2025-FB-post.png
END:VEVENT
BEGIN:VEVENT
DTSTART;TZID=America/Indiana/Indianapolis:20250601T100000
DTEND;TZID=America/Indiana/Indianapolis:20250601T110000
DTSTAMP:20260421T132206
CREATED:20250514T144904Z
LAST-MODIFIED:20250514T144906Z
UID:4781-1748772000-1748775600@zionsvillechristianchurch.org
SUMMARY:Bluegrass Outdoor Worship
DESCRIPTION:Grab your camp chairs and picnic blankets and join us for a bluegrass-themed outdoor worship service (weather permitting)\, accompanied by a pitch-in lunch and a celebration of our graduates! And don’t forget to swing by the native plants sale in the ZCC parking lot (hosted by Native Plants Unlimited).
URL:https://zionsvillechristianchurch.org/event/bluegrass-outdoor-worship/
LOCATION:Zionsville Christian Church\, 120 N. 9th Street\, Zionsville\, Indiana\, 46077
ATTACH;FMTTYPE=image/png:https://zionsvillechristianchurch.org/wp-content/uploads/2025/05/Bluegrass-Outdoor-Worship-June-1-FB-post.png
END:VEVENT
BEGIN:VEVENT
DTSTART;TZID=America/Indiana/Indianapolis:20250529T170000
DTEND;TZID=America/Indiana/Indianapolis:20250529T190000
DTSTAMP:20260421T132206
CREATED:20250226T161034Z
LAST-MODIFIED:20250507T135924Z
UID:4417-1748538000-1748545200@zionsvillechristianchurch.org
SUMMARY:Parents' Night Out
DESCRIPTION:Are you looking for ways for your kids to make friends and experience community? Is date night long overdue? Or maybe you just need a little time to run errands by yourself… Drop off your kids at Zionsville Christian Church for a fun-filled pizza party with ZCC volunteers. \n\n\n\nSuggested donation of $5 per child for 1-2 children; $15 per family for 3+ children. \n\n\n\n\nregister
URL:https://zionsvillechristianchurch.org/event/parents-night-out-2/
LOCATION:Zionsville Christian Church\, 120 N. 9th Street\, Zionsville\, Indiana\, 46077
ATTACH;FMTTYPE=image/jpeg:https://zionsvillechristianchurch.org/wp-content/uploads/2025/02/Parents-Night-Out-May-2025-FB-post.jpg
END:VEVENT
BEGIN:VEVENT
DTSTART;TZID=America/Indiana/Indianapolis:20250516T190000
DTEND;TZID=America/Indiana/Indianapolis:20250516T210000
DTSTAMP:20260421T132206
CREATED:20250226T160819Z
LAST-MODIFIED:20250430T152324Z
UID:4414-1747422000-1747429200@zionsvillechristianchurch.org
SUMMARY:Rail Trail Movie Night: Inside Out
DESCRIPTION:Join us for ZCC’s Rail Trail Movie Nights\, a series of family-friendly outdoor movies! Grab a camp chair or blanket and find a spot on the lawn alongside the Big-4 Rail Trail on Friday\, May 16\, at 7:00 pm (weather permitting) to watch Inside Out. \n\n\n\nFor more information and dates of future movies\, check out the link below. \n\n\n\n\nlearn more
URL:https://zionsvillechristianchurch.org/event/outdoor-movie-night-2/
LOCATION:Zionsville Christian Church\, 120 N. 9th Street\, Zionsville\, Indiana\, 46077
ATTACH;FMTTYPE=image/png:https://zionsvillechristianchurch.org/wp-content/uploads/2025/02/Movie-Night-5-16-FB-post.png
END:VEVENT
BEGIN:VEVENT
DTSTART;TZID=America/Indiana/Indianapolis:20250429T190000
DTEND;TZID=America/Indiana/Indianapolis:20250429T210000
DTSTAMP:20260421T132206
CREATED:20250327T160653Z
LAST-MODIFIED:20250327T160936Z
UID:4526-1745953200-1745960400@zionsvillechristianchurch.org
SUMMARY:ZCC Speaker Series: Sheila Seuss Kennedy
DESCRIPTION:What is the rule of law\, and why is it important? Why is it at risk? The U.S. Constitution is inextricably entwined with the rule of law. John Adams famously described the Constitution as imposing “a rule of laws\, not men”; an exploration of this perspective reveals compelling implications for our current constitutional crisis. \n\n\n\n\nlearn more
URL:https://zionsvillechristianchurch.org/event/zcc-speaker-series-sheila-seuss-kennedy/
LOCATION:Zionsville Christian Church\, 120 N. 9th Street\, Zionsville\, Indiana\, 46077
ATTACH;FMTTYPE=image/jpeg:https://zionsvillechristianchurch.org/wp-content/uploads/2025/03/Speaker-Series-4-2025-info-no-URL-logo.jpg
END:VEVENT
BEGIN:VEVENT
DTSTART;TZID=America/Indiana/Indianapolis:20250417T190000
DTEND;TZID=America/Indiana/Indianapolis:20250417T200000
DTSTAMP:20260421T132206
CREATED:20250226T160257Z
LAST-MODIFIED:20250226T160258Z
UID:4407-1744916400-1744920000@zionsvillechristianchurch.org
SUMMARY:Maundy Thursday Service of Shadows
DESCRIPTION:
URL:https://zionsvillechristianchurch.org/event/maundy-thursday-service-of-shadows/
LOCATION:Zionsville Christian Church\, 120 N. 9th Street\, Zionsville\, Indiana\, 46077
END:VEVENT
BEGIN:VEVENT
DTSTART;TZID=America/Indiana/Indianapolis:20250413T110000
DTEND;TZID=America/Indiana/Indianapolis:20250413T120000
DTSTAMP:20260421T132206
CREATED:20250226T160038Z
LAST-MODIFIED:20250401T183251Z
UID:4404-1744542000-1744545600@zionsvillechristianchurch.org
SUMMARY:Easter Egg Hunt
DESCRIPTION:Join us for ZCC’s annual Easter Egg Hunt\, after the Palm Sunday worship service.
URL:https://zionsvillechristianchurch.org/event/easter-egg-hunt-2/
LOCATION:Zionsville Christian Church\, 120 N. 9th Street\, Zionsville\, Indiana\, 46077
ATTACH;FMTTYPE=image/jpeg:https://zionsvillechristianchurch.org/wp-content/uploads/2025/02/Easter-Egg-Hunt-2025-Facebook-Post-1.jpg
END:VEVENT
BEGIN:VEVENT
DTSTART;TZID=America/Indiana/Indianapolis:20250411T190000
DTEND;TZID=America/Indiana/Indianapolis:20250411T210000
DTSTAMP:20260421T132207
CREATED:20250226T155906Z
LAST-MODIFIED:20250331T183117Z
UID:4401-1744398000-1744405200@zionsvillechristianchurch.org
SUMMARY:Outdoor Movie Night
DESCRIPTION:Introducing the first in a series of family-friendly outdoor movie nights! Grab a camp chair or blanket and join us on the ZCC lawn on Friday\, April 11 at 7:00 pm (weather permitting) to watch The Wild Robot.
URL:https://zionsvillechristianchurch.org/event/outdoor-movie-night/
LOCATION:Zionsville Christian Church\, 120 N. 9th Street\, Zionsville\, Indiana\, 46077
ATTACH;FMTTYPE=image/jpeg:https://zionsvillechristianchurch.org/wp-content/uploads/2025/03/Outdoor-Movie-Night-411-FB-1.jpg
END:VEVENT
END:VCALENDAR